BEGIN:VCALENDAR
VERSION:2.0
PRODID:-//Iyoda Kohei - ECPv6.0.11//NONSGML v1.0//EN
CALSCALE:GREGORIAN
METHOD:PUBLISH
X-ORIGINAL-URL:http://iyodakohei.com
X-WR-CALDESC:Iyoda Kohei のイベント
REFRESH-INTERVAL;VALUE=DURATION:PT1H
X-Robots-Tag:noindex
X-PUBLISHED-TTL:PT1H
BEGIN:VTIMEZONE
TZID:Asia/Tokyo
BEGIN:STANDARD
TZOFFSETFROM:+0900
TZOFFSETTO:+0900
TZNAME:JST
DTSTART:20260101T000000
END:STANDARD
END:VTIMEZONE
BEGIN:VEVENT
DTSTART;VALUE=DATE:20260410
DTEND;VALUE=DATE:20260411
DTSTAMP:20260423T005643
CREATED:20260301T083508Z
LAST-MODIFIED:20260301T083508Z
UID:2183-1775779200-1775865599@iyodakohei.com
SUMMARY:BAR濱書房~金曜にGサロン410SP~
DESCRIPTION:BAR濱書房~金曜にGサロン410SP~ 2026年4月10日(金) Music Lab.濱書房 \n開店18:30 閉店22:00予定  \n出演：新井崇之  / Iyoda Kohei  \n全椅子席(自由席※テーブル有り/相席スタイルでお願いします)  \n  \n予約¥3\,500 / 当日¥4\,000＊ 1ドリンク別 \n  \n濱サポ優先予約(先着)  \n3/07(土)10:00~3/08(日)23:59  \n  \n一般予約受付/ツイキャス発売 3/09(月)21:00~  \nTIGET予約 http://tiget.net/events/469379 \nツイキャス http://twitcasting.tv/ml_hamashobo \n  \n料金(定点配信) 通常：¥2\,500 / 出演者へのチップ付きチケット:¥3\,000
URL:http://iyodakohei.com/event/bar%e6%bf%b1%e6%9b%b8%e6%88%bf%e9%87%91%e6%9b%9c%e3%81%abg%e3%82%b5%e3%83%ad%e3%83%b3410sp/
LOCATION:ML.濱書房
CATEGORIES:SUCHEDULE
ATTACH;FMTTYPE=image/jpeg:http://iyodakohei.com/wp-content/uploads/2026/03/HB0qH2rbwAAp5WN.jpeg
END:VEVENT
END:VCALENDAR