BEGIN:VCALENDAR
VERSION:2.0
PRODID:-//Iyoda Kohei - ECPv6.0.11//NONSGML v1.0//EN
CALSCALE:GREGORIAN
METHOD:PUBLISH
X-WR-CALNAME:Iyoda Kohei
X-ORIGINAL-URL:http://iyodakohei.com
X-WR-CALDESC:Iyoda Kohei のイベント
REFRESH-INTERVAL;VALUE=DURATION:PT1H
X-Robots-Tag:noindex
X-PUBLISHED-TTL:PT1H
BEGIN:VTIMEZONE
TZID:Asia/Tokyo
BEGIN:STANDARD
TZOFFSETFROM:+0900
TZOFFSETTO:+0900
TZNAME:JST
DTSTART:20260101T000000
END:STANDARD
END:VTIMEZONE
BEGIN:VEVENT
DTSTART;VALUE=DATE:20260222
DTEND;VALUE=DATE:20260223
DTSTAMP:20260423T044218
CREATED:20251116T110743Z
LAST-MODIFIED:20251116T110838Z
UID:2121-1771718400-1771804799@iyodakohei.com
SUMMARY:Iyoda Kohei 1st EP『epilogue』 Release Event
DESCRIPTION:Iyoda Kohei 1st EP『epilogue』 Release Event \n  \n2026年2月22日(日)  \nESP GROOVE LOUNGE TOKYO \n\n\n\n開場時間 17:00 開演時間 17:30\n\n\n\n\n\n\n\n\n チケット発売スケジュール  \n▼先行抽選 11月22日(土)10:00〜11月29日(土)23:59  \n▼一般販売 12月13日(土)10:00〜2月21日(土)23:59  \n  \n詳細はこちら https://livepocket.jp/e/vt-dt
URL:http://iyodakohei.com/event/iyoda-kohei-1st-ep%e3%80%8eepilogue%e3%80%8f-release-event/
LOCATION:ESP GROOVE LOUNGE TOKYO
CATEGORIES:SUCHEDULE
ATTACH;FMTTYPE=image/jpeg:http://iyodakohei.com/wp-content/uploads/2025/11/G53xobBagAEJaSg-scaled.jpeg
END:VEVENT
END:VCALENDAR