BEGIN:VCALENDAR
VERSION:2.0
PRODID:-//Iyoda Kohei - ECPv6.0.11//NONSGML v1.0//EN
CALSCALE:GREGORIAN
METHOD:PUBLISH
X-WR-CALNAME:Iyoda Kohei
X-ORIGINAL-URL:http://iyodakohei.com
X-WR-CALDESC:Iyoda Kohei のイベント
REFRESH-INTERVAL;VALUE=DURATION:PT1H
X-Robots-Tag:noindex
X-PUBLISHED-TTL:PT1H
BEGIN:VTIMEZONE
TZID:Asia/Tokyo
BEGIN:STANDARD
TZOFFSETFROM:+0900
TZOFFSETTO:+0900
TZNAME:JST
DTSTART:20260101T000000
END:STANDARD
END:VTIMEZONE
BEGIN:VEVENT
DTSTART;VALUE=DATE:20260222
DTEND;VALUE=DATE:20260223
DTSTAMP:20260423T081212
CREATED:20251116T110743Z
LAST-MODIFIED:20251116T110838Z
UID:2121-1771718400-1771804799@iyodakohei.com
SUMMARY:Iyoda Kohei 1st EP『epilogue』 Release Event
DESCRIPTION:Iyoda Kohei 1st EP『epilogue』 Release Event \n  \n2026年2月22日(日)  \nESP GROOVE LOUNGE TOKYO \n\n\n\n開場時間 17:00 開演時間 17:30\n\n\n\n\n\n\n\n\n チケット発売スケジュール  \n▼先行抽選 11月22日(土)10:00〜11月29日(土)23:59  \n▼一般販売 12月13日(土)10:00〜2月21日(土)23:59  \n  \n詳細はこちら https://livepocket.jp/e/vt-dt
URL:http://iyodakohei.com/event/iyoda-kohei-1st-ep%e3%80%8eepilogue%e3%80%8f-release-event/
LOCATION:ESP GROOVE LOUNGE TOKYO
CATEGORIES:SUCHEDULE
ATTACH;FMTTYPE=image/jpeg:http://iyodakohei.com/wp-content/uploads/2025/11/G53xobBagAEJaSg-scaled.jpeg
END:VEVENT
BEGIN:VEVENT
DTSTART;VALUE=DATE:20260410
DTEND;VALUE=DATE:20260411
DTSTAMP:20260423T081212
CREATED:20260301T083508Z
LAST-MODIFIED:20260301T083508Z
UID:2183-1775779200-1775865599@iyodakohei.com
SUMMARY:BAR濱書房~金曜にGサロン410SP~
DESCRIPTION:BAR濱書房~金曜にGサロン410SP~ 2026年4月10日(金) Music Lab.濱書房 \n開店18:30 閉店22:00予定  \n出演：新井崇之  / Iyoda Kohei  \n全椅子席(自由席※テーブル有り/相席スタイルでお願いします)  \n  \n予約¥3\,500 / 当日¥4\,000＊ 1ドリンク別 \n  \n濱サポ優先予約(先着)  \n3/07(土)10:00~3/08(日)23:59  \n  \n一般予約受付/ツイキャス発売 3/09(月)21:00~  \nTIGET予約 http://tiget.net/events/469379 \nツイキャス http://twitcasting.tv/ml_hamashobo \n  \n料金(定点配信) 通常：¥2\,500 / 出演者へのチップ付きチケット:¥3\,000
URL:http://iyodakohei.com/event/bar%e6%bf%b1%e6%9b%b8%e6%88%bf%e9%87%91%e6%9b%9c%e3%81%abg%e3%82%b5%e3%83%ad%e3%83%b3410sp/
LOCATION:ML.濱書房
CATEGORIES:SUCHEDULE
ATTACH;FMTTYPE=image/jpeg:http://iyodakohei.com/wp-content/uploads/2026/03/HB0qH2rbwAAp5WN.jpeg
END:VEVENT
BEGIN:VEVENT
DTSTART;VALUE=DATE:20260419
DTEND;VALUE=DATE:20260420
DTSTAMP:20260423T081212
CREATED:20260318T092724Z
LAST-MODIFIED:20260318T092757Z
UID:2192-1776556800-1776643199@iyodakohei.com
SUMMARY:NoGoD「EXPERIMENTAL STAGE」(有観客/配信)
DESCRIPTION:2026.04.19 (日)\n心斎橋CLAPPER\n\n\n【開場】16:00\n【開演】16:30【チケット】\n前売:¥5\,500 / 当日:¥6\,500*1DRINK別途\n配信:¥3\,000 \n【出演】NoGoD\nサポートギタリスト:Iyoda Kohei \n■■■有観客チケット■■■\n●FC優先(ART POP WEB SHOP) Aチケット\n受付期間:2/15(日)12:00～2/27(金)23:59\n販売頁は「CoNGREGATIoN」から\n*4/19大阪、20名古屋、5/10横浜(2回公演)の4公演まとめて申し込み可\n*お一人様各公演2枚まで\n*先着受付/ 整理番号は抽選となります。 \n・FC会員以外の方のお申し込みはキャンセル扱いになりますのでご注意ください。 \nNoGoD Official mobile「CoNGREGATIoN」\nhttps://fanicon.net/fancommunities/6733\nご入会後即日チケットお申し込みしていただけます。\n※会員番号はマイページに表示される会員カード左上にNo.～と表示されています。 \n●一般発売(e+) Bチケット\n受付期間:3/07(土)10:00～\n販売頁 URL→ https://eplus.jp/sf/detail/4481200001-P0030001\n*お一人様2枚まで \n■■■入場順■■■\nAチケット→Bチケット→当日券 \n■■■配信■■■\nキャスマーケット: https://premier.twitcasting.tv/c:artpop_event/shopcart/418813\n配信アカウント:ART POP ENTERTAINMENT \n問い合わせ:ART POP ENTERTAINMENT\ninfo@artpop.org \n\n\n\n■会場チケットについて\n①FC優先に関して\n◆ART POP WEBにて受付、4/19大阪、20名古屋、5/10横浜(2回公演)の4公演まとめて申し込み可/1公演につき2枚まで。\n購入後のキャンセル/払い戻しは出来ませんのでご注意ください。\n*先着受付/整理番号(A1～)は受付期間終了後に抽選で確定いたします。\n*発送手数料は発送1件につき￥600です。\n*営利目的のチケットの転売は禁止です。②一般発売に関して\n◆e+( B1～)にてお一人様2枚まで購入できます。\n*事前決済の公演となります。\n購入後のキャンセル/払い戻しは出来ませんのでご注意ください。\n*営利目的のチケットの転売は禁止です。\n———————————————————————————————————————\n★体調が芳しくない方は無理をせず、来場をお控えください。\n◆その他、公演開催時の状況で追記/変更する場合がございます。\n随時HP/ツイッター等でお知らせいたします。
URL:http://iyodakohei.com/event/nogod%e3%80%8cexperimental-stage%e3%80%8d%e6%9c%89%e8%a6%b3%e5%ae%a2-%e9%85%8d%e4%bf%a1/
LOCATION:心斎橋CLAPPER
CATEGORIES:SUCHEDULE
ATTACH;FMTTYPE=image/jpeg:http://iyodakohei.com/wp-content/uploads/2026/03/75303_5e93e.jpg
END:VEVENT
BEGIN:VEVENT
DTSTART;VALUE=DATE:20260420
DTEND;VALUE=DATE:20260421
DTSTAMP:20260423T081212
CREATED:20260318T092945Z
LAST-MODIFIED:20260318T092945Z
UID:2199-1776643200-1776729599@iyodakohei.com
SUMMARY:NoGoD「EXPERIMENTAL STAGE」(有観客/配信)
DESCRIPTION:2026.04.20 (月)\n今池3STAR\n\n\n【開場】18:00\n【開演】18:30 \n【チケット】\n前売:¥5\,500 / 当日:¥6\,500*1DRINK別途\n配信:¥3\,000 \n【出演】NoGoD\nサポートギタリスト:Iyoda Kohei \n■■■有観客チケット■■■\n●FC優先(ART POP WEB SHOP) Aチケット\n受付期間:2/15(日)12:00～2/27(金)23:59\n販売頁は「CoNGREGATIoN」から\n*4/19大阪、20名古屋、5/10横浜(2回公演)の4公演まとめて申し込み可\n*お一人様各公演2枚まで\n*先着受付/ 整理番号は抽選となります。 \n・FC会員以外の方のお申し込みはキャンセル扱いになりますのでご注意ください。 \nNoGoD Official mobile「CoNGREGATIoN」\nhttps://fanicon.net/fancommunities/6733\nご入会後即日チケットお申し込みしていただけます。\n※会員番号はマイページに表示される会員カード左上にNo.～と表示されています。 \n●一般発売(e+) Bチケット\n受付期間:3/07(土)10:00～\n販売頁 URL→ https://eplus.jp/sf/detail/4481210001-P0030001\n*お一人様2枚まで \n■■■入場順■■■\nAチケット→Bチケット→当日券 \n■■■配信■■■\nキャスマーケット: https://premier.twitcasting.tv/c:artpop_event/shopcart/418814\n配信アカウント:ART POP ENTERTAINMENT \n問い合わせ:ART POP ENTERTAINMENT\ninfo@artpop.org\n\n\n■会場チケットについて\n①FC優先に関して\n◆ART POP WEBにて受付、4/19大阪、20名古屋、5/10横浜(2回公演)の4公演まとめて申し込み可/1公演につき2枚まで。\n購入後のキャンセル/払い戻しは出来ませんのでご注意ください。\n*先着受付/整理番号(A1～)は受付期間終了後に抽選で確定いたします。\n*発送手数料は発送1件につき￥600です。\n*営利目的のチケットの転売は禁止です。 \n②一般発売に関して\n◆e+( B1～)にてお一人様2枚まで購入できます。\n*事前決済の公演となります。\n購入後のキャンセル/払い戻しは出来ませんのでご注意ください。\n*営利目的のチケットの転売は禁止です。\n———————————————————————————————————————\n★体調が芳しくない方は無理をせず、来場をお控えください。\n◆その他、公演開催時の状況で追記/変更する場合がございます。\n随時HP/ツイッター等でお知らせいたします。
URL:http://iyodakohei.com/event/nogod%e3%80%8cexperimental-stage%e3%80%8d%e6%9c%89%e8%a6%b3%e5%ae%a2-%e9%85%8d%e4%bf%a1-2/
LOCATION:今池3STAR
CATEGORIES:SUCHEDULE
ATTACH;FMTTYPE=image/jpeg:http://iyodakohei.com/wp-content/uploads/2026/03/75303_5e93e.jpg
END:VEVENT
BEGIN:VEVENT
DTSTART;VALUE=DATE:20260510
DTEND;VALUE=DATE:20260511
DTSTAMP:20260423T081212
CREATED:20260318T092853Z
LAST-MODIFIED:20260318T092853Z
UID:2196-1778371200-1778457599@iyodakohei.com
SUMMARY:NoGoD「EXPERIMENTAL STAGE～GoDの日～」(FC限定)
DESCRIPTION:2026.05.10 (日)\nMusic Lab.濱書房\n\n\n【開場】14:00\n【開演】14:30 \n【チケット】\n前売:¥4\,000 / 当日:¥4\,500*1DRINK別途\nFC限定配信:¥1\,500 \n【出演】NoGoD\nサポートギタリスト:Iyoda Kohei \n■■■有観客チケット■■■\n●FC優先(ART POP WEB SHOP) Aチケット\n受付期間:2/15(日)12:00～2/27(金)23:59\n販売頁は「CoNGREGATIoN」から\n*4/19大阪、20名古屋、5/10横浜(2回公演)の4公演まとめて申し込み可\n*お一人様各公演2枚まで\n*先着受付/ 整理番号は抽選となります。\n*FC会員限定となります。入場時に会員頁を提示してください。 \n・FC会員以外の方のお申し込みはキャンセル扱いになりますのでご注意ください。 \nNoGoD Official mobile「CoNGREGATIoN」\nhttps://fanicon.net/fancommunities/6733\nご入会後即日チケットお申し込みしていただけます。\n※会員番号はマイページに表示される会員カード左上にNo.～と表示されています。 \n●一般発売(TIGET) Bチケット\n受付期間:3/07(土)10:00～\n販売頁 URL→ https://tiget.net/events/465003\n*お一人様2枚まで\n*FC会員限定となります。入場時に会員頁を提示してください。 \n■■■入場順■■■\nAチケット→Bチケット→当日券 \n■■■配信■■■\n詳細はNoGoD Official mobile「CoNGREGATIoN」内でご確認ください。\n問い合わせ:ART POP ENTERTAINMENT\ninfo@artpop.org\n\n\n■会場チケットについて\n①FC優先に関して\n◆ART POP WEBにて受付、4/19大阪、20名古屋、5/10横浜(2回公演)の4公演まとめて申し込み可/1公演につき2枚まで。\n購入後のキャンセル/払い戻しは出来ませんのでご注意ください。\n*先着受付/整理番号(A1～)は受付期間終了後に抽選で確定いたします。\n*発送手数料は発送1件につき￥600です。\n*営利目的のチケットの転売は禁止です。\n*FC限定公演となりますので入場時に会員ページの提示をお願いします。 \n②一般発売に関して\n◆TIGET(B1～)にてお一人様2枚まで購入できます。\n*チケットは当日引換えとなります。\n*営利目的のチケットの転売は禁止です。\n*FC限定公演となりますので入場時に会員ページの提示をお願いします。\n———————————————————————————————————————\n★体調が芳しくない方は無理をせず、来場をお控えください。\n◆その他、公演開催時の状況で追記/変更する場合がございます。\n随時HP/ツイッター等でお知らせいたします。
URL:http://iyodakohei.com/event/nogod%e3%80%8cexperimental-stage%ef%bd%9egod%e3%81%ae%e6%97%a5%ef%bd%9e%e3%80%8dfc%e9%99%90%e5%ae%9a/
LOCATION:Music Lab.濱書房
CATEGORIES:SUCHEDULE
ATTACH;FMTTYPE=image/jpeg:http://iyodakohei.com/wp-content/uploads/2026/03/75309_b526d.jpg
END:VEVENT
BEGIN:VEVENT
DTSTART;VALUE=DATE:20260510
DTEND;VALUE=DATE:20260511
DTSTAMP:20260423T081212
CREATED:20260318T093040Z
LAST-MODIFIED:20260318T093040Z
UID:2201-1778371200-1778457599@iyodakohei.com
SUMMARY:NoGoD「EXPERIMENTAL STAGE」(有観客/配信)
DESCRIPTION:2026.05.10 (日)\nMusic Lab.濱書房\n\n\n【開場】17:30\n【開演】18:00 \n【チケット】\n前売:¥5\,500 / 当日:¥6\,500*1DRINK別途\n配信:¥3\,000 \n【出演】NoGoD\nサポートギタリスト:Iyoda Kohei \n■■■有観客チケット■■■\n●FC優先(ART POP WEB SHOP) Aチケット\n受付期間:2/15(日)12:00～2/27(金)23:59\n販売頁は「CoNGREGATIoN」から\n*4/19大阪、20名古屋、5/10横浜(2回公演)の4公演まとめて申し込み可\n*お一人様各公演2枚まで\n*先着受付/ 整理番号は抽選となります。 \n・FC会員以外の方のお申し込みはキャンセル扱いになりますのでご注意ください。 \nNoGoD Official mobile「CoNGREGATIoN」\nhttps://fanicon.net/fancommunities/6733\nご入会後即日チケットお申し込みしていただけます。\n※会員番号はマイページに表示される会員カード左上にNo.～と表示されています。 \n●一般発売(e+) Bチケット\n受付期間:3/07(土)10:00～\n販売頁 URL→ https://eplus.jp/sf/detail/4481230001-P0030001\n*お一人様2枚まで \n■■■入場順■■■\nAチケット→Bチケット→当日券 \n■■■配信■■■\nキャスマーケット: https://premier.twitcasting.tv/c:artpop_event/shopcart/418817\n配信アカウント:ART POP ENTERTAINMENT \n問い合わせ:ART POP ENTERTAINMENT\ninfo@artpop.org\n\n\n■会場チケットについて\n①FC優先に関して\n◆ART POP WEBにて受付、4/19大阪、20名古屋、5/10横浜(2回公演)の4公演まとめて申し込み可/1公演につき2枚まで。\n購入後のキャンセル/払い戻しは出来ませんのでご注意ください。\n*先着受付/整理番号(A1～)は受付期間終了後に抽選で確定いたします。\n*発送手数料は発送1件につき￥600です。\n*営利目的のチケットの転売は禁止です。 \n②一般発売に関して\n◆e+(B1～)にてお一人様2枚まで購入できます。\n*事前決済の公演となります。\n購入後のキャンセル/払い戻しは出来ませんのでご注意ください。\n*営利目的のチケットの転売は禁止です。\n———————————————————————————————————————\n★体調が芳しくない方は無理をせず、来場をお控えください。\n◆その他、公演開催時の状況で追記/変更する場合がございます。\n随時HP/ツイッター等でお知らせいたします。
URL:http://iyodakohei.com/event/nogod%e3%80%8cexperimental-stage%e3%80%8d%e6%9c%89%e8%a6%b3%e5%ae%a2-%e9%85%8d%e4%bf%a1-3/
LOCATION:Music Lab.濱書房
CATEGORIES:SUCHEDULE
ATTACH;FMTTYPE=image/jpeg:http://iyodakohei.com/wp-content/uploads/2026/03/75303_5e93e.jpg
END:VEVENT
BEGIN:VEVENT
DTSTART;VALUE=DATE:20260607
DTEND;VALUE=DATE:20260608
DTSTAMP:20260423T081212
CREATED:20260405T152545Z
LAST-MODIFIED:20260405T152545Z
UID:2218-1780790400-1780876799@iyodakohei.com
SUMMARY:NoGoD 「Sequel to EXPERIMENTAL STAGE」
DESCRIPTION:2026.06.07 (日)\n高田馬場CLUB PHASE\n\n\n【開場】16:30\n【開演】17:00 \n【チケット】\n前売:¥5\,500 / 当日:¥6\,500*1DRINK別途\n配信:¥3\,000 \n【出演】NoGoD\nサポートギタリスト:Iyoda Kohei \n■■■有観客チケット■■■\n●FC優先(ART POP WEB SHOP) Aチケット\n受付期間:3/21(土)10:00～3/27(金)23:59\n販売頁は「CoNGREGATIoN」から\n*6/07東京、19横浜の2公演まとめて申し込み可\n*お一人様各公演2枚まで\n*先着受付/ 整理番号は抽選となります。 \n・FC会員以外の方のお申し込みはキャンセル扱いになりますのでご注意ください。 \nNoGoD Official mobile「CoNGREGATIoN」\nhttps://fanicon.net/fancommunities/6733\nご入会後即日チケットお申し込みしていただけます。\n※会員番号はマイページに表示される会員カード左上にNo.～と表示されています。\n※ユーザー名(ニックネーム)は【未設定】ではお申し込みいただけません。登録後にお申し込みください。 \n●一般発売(e+) Bチケット\n受付期間:4/11(土)10:00～\n販売頁 URL→ https://eplus.jp/sf/detail/4505000001-P0030001\n\n*お一人様2枚まで \n■■■入場順■■■\nAチケット→Bチケット→当日券 \n■■■配信■■■\nキャスマーケット: 4/11(土)10:00～\nhttps://premier.twitcasting.tv/c:artpop_event/shopcart/425623\n配信アカウント:ART POP ENTERTAINMENT \n問い合わせ:\nART POP ENTERTAINMENT\ninfo@artpop.org\n\n\n■会場チケットについて\n①FC優先に関して\n◆ART POP WEBにて受付、6/07東京、19横浜の2公演まとめて申し込み可/1公演につき2枚まで。\n購入後のキャンセル/払い戻しは出来ませんのでご注意ください。\n*先着受付/整理番号(A1～)は受付期間終了後に抽選で確定いたします。\n*発送手数料は発送1件につき￥600です。\n*営利目的のチケットの転売は禁止です。 \n②一般発売に関して\n◆e+( B1～)にてお一人様2枚まで購入できます。\n*事前決済の公演となります。\n購入後のキャンセル/払い戻しは出来ませんのでご注意ください。\n*営利目的のチケットの転売は禁止です。\n———————————————————————————————————————\n★体調が芳しくない方は無理をせず、来場をお控えください。\n◆その他、公演開催時の状況で追記/変更する場合がございます。\n随時HP/ツイッター等でお知らせいたします。
URL:http://iyodakohei.com/event/nogod-%e3%80%8csequel-to-experimental-stage%e3%80%8d/
LOCATION:高田馬場CLUB PHASE
CATEGORIES:SUCHEDULE
ATTACH;FMTTYPE=image/jpeg:http://iyodakohei.com/wp-content/uploads/2026/04/20397_af442.jpg
END:VEVENT
BEGIN:VEVENT
DTSTART;VALUE=DATE:20260612
DTEND;VALUE=DATE:20260613
DTSTAMP:20260423T081212
CREATED:20260405T153144Z
LAST-MODIFIED:20260405T153144Z
UID:2223-1781222400-1781308799@iyodakohei.com
SUMMARY:TERU  PRE-LIVE -1-「TERU REALM」
DESCRIPTION:●6月12日(金)西荻BETTYROOM \nサポートメンバー Gt.Iyoda Kohei Gt.YOSHI Ba.本石久幸 Dr.遠海准司 \n  \nチケット発売日 \n4月17日18時 \n  \n●6月13日(土)Nakano Space Q \n1部:TERU\, 遠海准司\, YOSHI \n2部:TERU\, Iyoda Kohei\, 本石久幸 \n  \nチケット発売日 4月17日20時
URL:http://iyodakohei.com/event/teru-pre-live-1-%e3%80%8cteru-realm%e3%80%8d/
LOCATION:6月12日(金)西荻BETTYROOM
CATEGORIES:SUCHEDULE
ATTACH;FMTTYPE=image/jpeg:http://iyodakohei.com/wp-content/uploads/2026/04/HFDqIgVbEAAceyC-scaled.jpeg
END:VEVENT
BEGIN:VEVENT
DTSTART;VALUE=DATE:20260613
DTEND;VALUE=DATE:20260614
DTSTAMP:20260423T081212
CREATED:20260405T153349Z
LAST-MODIFIED:20260405T153349Z
UID:2227-1781308800-1781395199@iyodakohei.com
SUMMARY:TERU 「TERU REALM -After Talk Show-」
DESCRIPTION:●6月13日(土)Nakano Space Q \n1部:TERU\, 遠海准司\, YOSHI \n2部:TERU\, Iyoda Kohei\, 本石久幸 \n  \nチケット発売日 4月17日20時
URL:http://iyodakohei.com/event/teru-%e3%80%8cteru-realm-after-talk-show-%e3%80%8d/
LOCATION:Nakano Space Q
CATEGORIES:SUCHEDULE
ATTACH;FMTTYPE=image/jpeg:http://iyodakohei.com/wp-content/uploads/2026/04/HFDqIgVbEAAceyC-scaled.jpeg
END:VEVENT
BEGIN:VEVENT
DTSTART;VALUE=DATE:20260614
DTEND;VALUE=DATE:20260615
DTSTAMP:20260423T081212
CREATED:20260301T083101Z
LAST-MODIFIED:20260301T083134Z
UID:2179-1781395200-1781481599@iyodakohei.com
SUMMARY:Iyoda Kohei presents "Dual Virtuosos" Vol.1
DESCRIPTION:2026年6月14日(日) ESP GROOVE LOUNGE TOKYO   \nIyoda Kohei presents “Dual Virtuosos” Vol.1  \n  \nGuest Ray(DEVILOOF) \n  \nIyoda Koheiがホストを務め、実力派ギタリストをゲストに迎える特別企画 \n「Dual Virtuosos」 \n第一回ゲストはDEVILOOFからRay！ \nトークで花を咲かせセッションで火花を散らす！ \nこの日限りの特別な夜をご堪能ください！ \n  \n【1部】 \n開場時間 16:00 / 開演時間 16:30 \n【2部】 \n開場時間 19:00 / 開演時間 19:30 \n  \n料金　￥5\,000- \n  \nチケット発売スケジュール \n ▼先行抽選 03/06(金)10:00〜03/13(金)23:59  \n▼一般販売 03/27(金)10:00〜6/13(土)23:59  \n  \n詳細はこちら https://livepocket.jp/e/dualvirtuosos1
URL:http://iyodakohei.com/event/iyoda-kohei-presents-dual-virtuosos-vol-1/
LOCATION:ESP GROOVE LOUNGE TOKYO
CATEGORIES:SUCHEDULE
ATTACH;FMTTYPE=image/jpeg:http://iyodakohei.com/wp-content/uploads/2026/03/HCPXbO_bgAA1p8h-scaled.jpeg
END:VEVENT
BEGIN:VEVENT
DTSTART;VALUE=DATE:20260619
DTEND;VALUE=DATE:20260620
DTSTAMP:20260423T081212
CREATED:20260405T152703Z
LAST-MODIFIED:20260405T152703Z
UID:2221-1781827200-1781913599@iyodakohei.com
SUMMARY:NoGoD「Sequel to EXPERIMENTAL STAGE」SOLD OUT!!
DESCRIPTION:2026.06.19 (金)\nMusic Lab.濱書房\n\n\n【開場】18:30\n【開演】19:00 \n【チケット】Thank you SOLD OUT!!\n前売:¥5\,500 *1DRINK別途\n配信:¥3\,000 \n【出演】NoGoD\nサポートギタリスト:Iyoda Kohei \n■■■有観客チケット■■■\n●FC優先(ART POP WEB SHOP) Aチケット\n受付期間:3/21(土)10:00～3/27(金)23:59\n販売頁は「CoNGREGATIoN」から\n*6/07東京、19横浜の2公演まとめて申し込み可\n*お一人様各公演2枚まで\n*先着受付/ 整理番号は抽選となります。 \n・FC会員以外の方のお申し込みはキャンセル扱いになりますのでご注意ください。 \nNoGoD Official mobile「CoNGREGATIoN」\nhttps://fanicon.net/fancommunities/6733\nご入会後即日チケットお申し込みしていただけます。\n※会員番号はマイページに表示される会員カード左上にNo.～と表示されています。\n※ユーザー名(ニックネーム)は【未設定】ではお申し込みいただけません。登録後にお申し込みください。 \n■■■配信■■■\nキャスマーケット: 4/11(土)10:00～\nhttps://premier.twitcasting.tv/c:artpop_event/shopcart/425624\n配信アカウント:ART POP ENTERTAINMENT \n問い合わせ:\nART POP ENTERTAINMENT\ninfo@artpop.org\n\n■会場チケットについて\n①FC優先に関して\n◆ART POP WEBにて受付、6/07東京、19横浜の2公演まとめて申し込み可/1公演につき2枚まで。\n購入後のキャンセル/払い戻しは出来ませんのでご注意ください。\n*先着受付/整理番号(A1～)は受付期間終了後に抽選で確定いたします。\n*発送手数料は発送1件につき￥600です。\n*営利目的のチケットの転売は禁止です。 \n②一般発売に関して\n◆e+( B1～)にてお一人様2枚まで購入できます。\n*事前決済の公演となります。\n購入後のキャンセル/払い戻しは出来ませんのでご注意ください。\n*営利目的のチケットの転売は禁止です。\n———————————————————————————————————————\n★体調が芳しくない方は無理をせず、来場をお控えください。\n◆その他、公演開催時の状況で追記/変更する場合がございます。\n随時HP/ツイッター等でお知らせいたします。
URL:http://iyodakohei.com/event/nogod%e3%80%8csequel-to-experimental-stage%e3%80%8dsold-out/
LOCATION:Music Lab.濱書房
CATEGORIES:SUCHEDULE
ATTACH;FMTTYPE=image/jpeg:http://iyodakohei.com/wp-content/uploads/2026/04/20397_af442.jpg
END:VEVENT
BEGIN:VEVENT
DTSTART;VALUE=DATE:20260627
DTEND;VALUE=DATE:20260628
DTSTAMP:20260423T081212
CREATED:20260421T114615Z
LAST-MODIFIED:20260421T114615Z
UID:2301-1782518400-1782604799@iyodakohei.com
SUMMARY:Jinn Special Acoustic Session Vol. 1 with Iyoda Kohei
DESCRIPTION:Jinn Special Acoustic Session Vol. 1 with Iyoda Kohei \n  \n2026年6月27日(土)  \n新宿御苑MERRY-GO-ROUND にて開催 限られた人数だけが体感できる、 特別なアコースティックセッションライブ&トーク。  \n歌とギターを、いつもよりもっと近くでご体感ください。  \n  \n【昼の部】  \n撮影 12:00 開場 13:30 開演 14:00 物販 15:30 \n  \n【夜の部】  \n撮影 17:00 開場 18:30 開演 19:00 物販 20:30 \n  \n各部限定25名  \n全席着席観覧 全員事前チェキ撮影付き 終演後物販あり  \n  \nチケット発売開始： 4/27 20:00〜 各部¥5\,000（全員事前チェキ撮影付き）  \n※チケットは先着販売となります \n  \n※ 会場詳細 https://merry-g-r.com/contents/about
URL:http://iyodakohei.com/event/jinn-special-acoustic-session-vol-1-with-iyoda-kohei/
LOCATION:新宿御苑MERRY-GO-ROUND
CATEGORIES:SUCHEDULE
ATTACH;FMTTYPE=image/jpeg:http://iyodakohei.com/wp-content/uploads/2026/04/HGbJZY6aIAAGrOL.jpeg
END:VEVENT
END:VCALENDAR